BEGIN:VCALENDAR
VERSION:2.0
PRODID:-//Densmore CPA - ECPv6.15.19//NONSGML v1.0//EN
CALSCALE:GREGORIAN
METHOD:PUBLISH
X-ORIGINAL-URL:https://www.densmorecpa.com
X-WR-CALDESC:Events for Densmore CPA
REFRESH-INTERVAL;VALUE=DURATION:PT1H
X-Robots-Tag:noindex
X-PUBLISHED-TTL:PT1H
BEGIN:VTIMEZONE
TZID:America/New_York
BEGIN:DAYLIGHT
TZOFFSETFROM:-0500
TZOFFSETTO:-0400
TZNAME:EDT
DTSTART:20250309T070000
END:DAYLIGHT
BEGIN:STANDARD
TZOFFSETFROM:-0400
TZOFFSETTO:-0500
TZNAME:EST
DTSTART:20251102T060000
END:STANDARD
BEGIN:DAYLIGHT
TZOFFSETFROM:-0500
TZOFFSETTO:-0400
TZNAME:EDT
DTSTART:20260308T070000
END:DAYLIGHT
BEGIN:STANDARD
TZOFFSETFROM:-0400
TZOFFSETTO:-0500
TZNAME:EST
DTSTART:20261101T060000
END:STANDARD
BEGIN:DAYLIGHT
TZOFFSETFROM:-0500
TZOFFSETTO:-0400
TZNAME:EDT
DTSTART:20270314T070000
END:DAYLIGHT
BEGIN:STANDARD
TZOFFSETFROM:-0400
TZOFFSETTO:-0500
TZNAME:EST
DTSTART:20271107T060000
END:STANDARD
END:VTIMEZONE
BEGIN:VEVENT
DTSTART;TZID=America/New_York:20260425T235900
DTEND;TZID=America/New_York:20260425T235900
DTSTAMP:20260420T114519
CREATED:20231018T135551Z
LAST-MODIFIED:20250920T141655Z
UID:6496-1777161540-1777161540@www.densmorecpa.com
SUMMARY:June CFE Prep Online - Case Submission Deadline - CFE-2
DESCRIPTION:CFE-2 (Good Neighbours GNI) submission deadline for June CFE Prep online students
URL:https://www.densmorecpa.com/calendar/may-cfe-prep-ii-first-time-writers-case-submission-deadline-cfe-2/
CATEGORIES:CFE Prep
END:VEVENT
END:VCALENDAR